BEGIN:VCALENDAR
VERSION:2.0
PRODID:-//Leigh Academy Mascalls - ECPv6.15.20//NONSGML v1.0//EN
CALSCALE:GREGORIAN
METHOD:PUBLISH
X-ORIGINAL-URL:https://leighacademymascalls.org.uk
X-WR-CALDESC:Events for Leigh Academy Mascalls
REFRESH-INTERVAL;VALUE=DURATION:PT1H
X-Robots-Tag:noindex
X-PUBLISHED-TTL:PT1H
BEGIN:VTIMEZONE
TZID:Europe/London
BEGIN:DAYLIGHT
TZOFFSETFROM:+0000
TZOFFSETTO:+0100
TZNAME:BST
DTSTART:20250330T010000
END:DAYLIGHT
BEGIN:STANDARD
TZOFFSETFROM:+0100
TZOFFSETTO:+0000
TZNAME:GMT
DTSTART:20251026T010000
END:STANDARD
BEGIN:DAYLIGHT
TZOFFSETFROM:+0000
TZOFFSETTO:+0100
TZNAME:BST
DTSTART:20260329T010000
END:DAYLIGHT
BEGIN:STANDARD
TZOFFSETFROM:+0100
TZOFFSETTO:+0000
TZNAME:GMT
DTSTART:20261025T010000
END:STANDARD
BEGIN:DAYLIGHT
TZOFFSETFROM:+0000
TZOFFSETTO:+0100
TZNAME:BST
DTSTART:20270328T010000
END:DAYLIGHT
BEGIN:STANDARD
TZOFFSETFROM:+0100
TZOFFSETTO:+0000
TZNAME:GMT
DTSTART:20271031T010000
END:STANDARD
END:VTIMEZONE
BEGIN:VEVENT
DTSTART;TZID=Europe/London:20260306T090000
DTEND;TZID=Europe/London:20260306T101000
DTSTAMP:20260421T133405
CREATED:20260303T120640Z
LAST-MODIFIED:20260303T120640Z
UID:2823-1772787600-1772791800@leighacademymascalls.org.uk
SUMMARY:Year 7 Welcome Visit
DESCRIPTION: Huge Welcome to our Class of 2026! 🎓\nWe are absolutely thrilled to welcome our newest cohort of students to Leigh Academy Mascalls. This year has been particularly special\, as we’ve been able to offer more 1st choice places than ever before! 🌟 \n📺 Watch Below : Our Principal\, Mrs. Brooks\, has recorded a special welcome message for all our new families. \nWelcome to Leigh Academy Mascalls 2026 \nHaven’t visited us yet? If you haven’t had a chance to see our academy in person\, we’d love to show you around! Join us for a tour:\n📅 Date: Friday\, 6th March\n🕘 Time: 9:00 AM \nTo reserve your spot\, please click here \n 
URL:https://leighacademymascalls.org.uk/event/year-7-welcome-visit/
LOCATION:Leigh Academy Mascalls\, Maidstone Rd\, Paddock Wood\, Tonbridge\, TN12 6LT\, United Kingdom
END:VEVENT
BEGIN:VEVENT
DTSTART;VALUE=DATE:20260312
DTEND;VALUE=DATE:20260313
DTSTAMP:20260421T133405
CREATED:20250911T125827Z
LAST-MODIFIED:20250911T125827Z
UID:2598-1773273600-1773359999@leighacademymascalls.org.uk
SUMMARY:Year 10 Parents Evening
DESCRIPTION:
URL:https://leighacademymascalls.org.uk/event/year-10-parents-evening/
END:VEVENT
BEGIN:VEVENT
DTSTART;VALUE=DATE:20260326
DTEND;VALUE=DATE:20260327
DTSTAMP:20260421T133405
CREATED:20250911T125811Z
LAST-MODIFIED:20260206T132809Z
UID:2597-1774483200-1774569599@leighacademymascalls.org.uk
SUMMARY:Year 8 Parents Evening
DESCRIPTION:
URL:https://leighacademymascalls.org.uk/event/year-8-parents-evening/
END:VEVENT
END:VCALENDAR